BEGIN:VCALENDAR
VERSION:2.0
PRODID:calendify.com
BEGIN:VEVENT
UID:calendify-session-yLz4Em0E4ao
DTSTART:20231228T130000Z
SEQUENCE:0
TRANSP:OPAQUE
DTEND:20231228T150000Z
URL:https://calendify.com/session/yLz4Em0E4ao
LOCATION:Lounge
SUMMARY:Hackin the Disco Day 2
CLASS:PUBLIC
DESCRIPTION:https://calendify.com/session/yLz4Em0E4ao
DTSTAMP:20260423T070215Z
CREATED:20231227T003002Z
LAST-MODIFIED:20240401T142932Z
END:VEVENT
END:VCALENDAR