BEGIN:VCALENDAR
VERSION:2.0
PRODID:calendify.com
BEGIN:VEVENT
UID:calendify-session-yLz4Em6Q4ao
DTSTART:20231230T115500Z
SEQUENCE:0
TRANSP:OPAQUE
DTEND:20231230T123500Z
URL:https://calendify.com/session/yLz4Em6Q4ao
LOCATION:Saal Zuse
SUMMARY:Zapfenstreich
CLASS:PUBLIC
DESCRIPTION:https://calendify.com/session/yLz4Em6Q4ao
DTSTAMP:20260423T044547Z
CREATED:20231215T204822Z
LAST-MODIFIED:20240401T142934Z
END:VEVENT
END:VCALENDAR