BEGIN:VCALENDAR
VERSION:2.0
PRODID:calendify.com
BEGIN:VEVENT
UID:calendify-session-yLz4EmGE4ao
DTSTART:20231228T170000Z
SEQUENCE:0
TRANSP:OPAQUE
DTEND:20231228T180000Z
URL:https://calendify.com/session/yLz4EmGE4ao
LOCATION:FOSS-HW Workshop Area [CDC Saal 3]
SUMMARY:Codeheat Introductory Workshop (Untari\, Hong Phuc Dang)
CLASS:PUBLIC
DESCRIPTION:https://calendify.com/session/yLz4EmGE4ao
DTSTAMP:20260423T043945Z
CREATED:20231226T160002Z
LAST-MODIFIED:20240401T142932Z
END:VEVENT
END:VCALENDAR