BEGIN:VCALENDAR
VERSION:2.0
PRODID:calendify.com
BEGIN:VEVENT
UID:calendify-session-yLz4EmXD4ao
DTSTART:20231229T170000Z
SEQUENCE:0
TRANSP:OPAQUE
DTEND:20231229T183000Z
URL:https://calendify.com/session/yLz4EmXD4ao
LOCATION:Round Table [CDC Saal 3]
SUMMARY:Making Smart Home devices great again
CLASS:PUBLIC
DESCRIPTION:https://calendify.com/session/yLz4EmXD4ao
DTSTAMP:20260423T004117Z
CREATED:20231227T131002Z
LAST-MODIFIED:20240401T142933Z
END:VEVENT
END:VCALENDAR