BEGIN:VCALENDAR
VERSION:2.0
PRODID:calendify.com
BEGIN:VEVENT
UID:calendify-session-yLz4EmYX4ao
DTSTART:20231228T161500Z
SEQUENCE:0
TRANSP:OPAQUE
DTEND:20231228T181500Z
URL:https://calendify.com/session/yLz4EmYX4ao
LOCATION:House
SUMMARY:#TeamDatenschutz-Meetup
CLASS:PUBLIC
DESCRIPTION:https://calendify.com/session/yLz4EmYX4ao
DTSTAMP:20260423T030952Z
CREATED:20231218T131310Z
LAST-MODIFIED:20240401T142932Z
END:VEVENT
END:VCALENDAR