BEGIN:VCALENDAR
VERSION:2.0
PRODID:calendify.com
BEGIN:VEVENT
UID:calendify-session-yLz4EmZw4ao
DTSTART:20231228T201500Z
SEQUENCE:0
TRANSP:OPAQUE
DTEND:20231228T214500Z
URL:https://calendify.com/session/yLz4EmZw4ao
LOCATION:Stage Y
SUMMARY:Datenschutz-Sprechstunde mit der Aufsichtsbehörde
CLASS:PUBLIC
DESCRIPTION:https://calendify.com/session/yLz4EmZw4ao
DTSTAMP:20260423T015855Z
CREATED:20231224T230004Z
LAST-MODIFIED:20240401T142932Z
END:VEVENT
END:VCALENDAR