BEGIN:VCALENDAR
VERSION:2.0
PRODID:calendify.com
BEGIN:VEVENT
UID:calendify-session-yLz4EmxD4ao
DTSTART:20231229T170000Z
SEQUENCE:0
TRANSP:OPAQUE
DTEND:20231229T180000Z
URL:https://calendify.com/session/yLz4EmxD4ao
LOCATION:Freie Arbeiter*innen Union (FAU)
SUMMARY:tech from below: Technologie von und für soziale Bewegungen
CLASS:PUBLIC
DESCRIPTION:https://calendify.com/session/yLz4EmxD4ao
DTSTAMP:20260423T070154Z
CREATED:20231228T111003Z
LAST-MODIFIED:20240401T142933Z
END:VEVENT
END:VCALENDAR