BEGIN:VCALENDAR
VERSION:2.0
PRODID:calendify.com
BEGIN:VEVENT
UID:calendify-session-yLz4EmyQ4ao
DTSTART:20231229T100000Z
SEQUENCE:0
TRANSP:OPAQUE
DTEND:20231229T104000Z
URL:https://calendify.com/session/yLz4EmyQ4ao
LOCATION:Saal 1
SUMMARY:NEW IMPORTANT INSTRUCTIONS
CLASS:PUBLIC
DESCRIPTION:https://calendify.com/session/yLz4EmyQ4ao
DTSTAMP:20260423T070711Z
CREATED:20231215T204820Z
LAST-MODIFIED:20240401T142932Z
END:VEVENT
END:VCALENDAR