BEGIN:VCALENDAR
VERSION:2.0
PRODID:calendify.com
BEGIN:VEVENT
UID:calendify-session-yLz4Eo0rMao
DTSTART:20200201T101000Z
SEQUENCE:0
TRANSP:OPAQUE
DTEND:20200201T103000Z
URL:https://calendify.com/session/yLz4Eo0rMao
LOCATION:K.3.401
SUMMARY:The HammerBlade RISC-V Manycore
CLASS:PUBLIC
DESCRIPTION:https://calendify.com/session/yLz4Eo0rMao
DTSTAMP:20260422T153820Z
CREATED:20200513T234730Z
LAST-MODIFIED:20210426T093308Z
END:VEVENT
END:VCALENDAR