BEGIN:VCALENDAR
VERSION:2.0
PRODID:calendify.com
BEGIN:VEVENT
UID:calendify-session-yLz4EoNXMao
DTSTART:20200202T123000Z
SEQUENCE:0
TRANSP:OPAQUE
DTEND:20200202T125500Z
URL:https://calendify.com/session/yLz4EoNXMao
LOCATION:H.1302 (Depage)
SUMMARY:2nd Generation JavaScript Frameworks & Libraries: Beyond Angular\, 
 React\, and Vue!
CLASS:PUBLIC
DESCRIPTION:https://calendify.com/session/yLz4EoNXMao
DTSTAMP:20260422T053138Z
CREATED:20200513T234731Z
LAST-MODIFIED:20210426T093308Z
END:VEVENT
END:VCALENDAR