BEGIN:VCALENDAR
VERSION:2.0
PRODID:calendify.com
BEGIN:VEVENT
UID:calendify-session-yLz4EobbMao
DTSTART:20200201T093000Z
SEQUENCE:0
TRANSP:OPAQUE
DTEND:20200201T093500Z
URL:https://calendify.com/session/yLz4EobbMao
LOCATION:H.1309 (Van Rijn)
SUMMARY:DNS Devroom Opening
CLASS:PUBLIC
DESCRIPTION:https://calendify.com/session/yLz4EobbMao
DTSTAMP:20260421T035013Z
CREATED:20200513T234730Z
LAST-MODIFIED:20210426T093308Z
END:VEVENT
END:VCALENDAR