BEGIN:VCALENDAR
VERSION:2.0
PRODID:calendify.com
BEGIN:VEVENT
UID:calendify-session-yLz4EojrMao
DTSTART:20200507T164000Z
SEQUENCE:0
TRANSP:OPAQUE
DTEND:20200507T165500Z
URL:https://calendify.com/session/yLz4EojrMao
LOCATION:Deep Dive 1
SUMMARY:Deep Dive - Urban Resilience\, Data Privacy and Neoliberalism
CLASS:PUBLIC
DESCRIPTION:https://calendify.com/session/yLz4EojrMao
DTSTAMP:20260420T185138Z
CREATED:20200505T102035Z
LAST-MODIFIED:20210113T190845Z
END:VEVENT
END:VCALENDAR