BEGIN:VCALENDAR
VERSION:2.0
PRODID:calendify.com
BEGIN:VEVENT
UID:calendify-session-yLz4EolEMao
DTSTART:20190822T103000Z
SEQUENCE:0
TRANSP:OPAQUE
DTEND:20190822T103500Z
URL:https://calendify.com/session/yLz4EolEMao
LOCATION:Meitner
SUMMARY:7 October 2019 - International Uprising - Movement of Movements - E
 xtinction Rebellion
CLASS:PUBLIC
DESCRIPTION:https://calendify.com/session/yLz4EolEMao
DTSTAMP:20260422T171657Z
CREATED:20200513T001655Z
LAST-MODIFIED:20200513T003255Z
END:VEVENT
END:VCALENDAR