BEGIN:VCALENDAR
VERSION:2.0
PRODID:calendify.com
BEGIN:VEVENT
UID:calendify-session-yLz4EowEMao
DTSTART:20200202T114500Z
SEQUENCE:0
TRANSP:OPAQUE
DTEND:20200202T115500Z
URL:https://calendify.com/session/yLz4EowEMao
LOCATION:UB5.132
SUMMARY:Buildtest: HPC Software Stack Testing Framework
CLASS:PUBLIC
DESCRIPTION:https://calendify.com/session/yLz4EowEMao
DTSTAMP:20260420T171316Z
CREATED:20200513T234735Z
LAST-MODIFIED:20210426T093310Z
END:VEVENT
END:VCALENDAR