BEGIN:VCALENDAR
VERSION:2.0
PRODID:calendify.com
BEGIN:VEVENT
UID:calendify-session-yLz4EzGeOao
DTSTART:20230610T083000Z
SEQUENCE:0
TRANSP:OPAQUE
DTEND:20230610T093000Z
URL:https://calendify.com/session/yLz4EzGeOao
LOCATION:Raum 208 (HFG)
SUMMARY:Hackspaces für Gehörlose aufmachen!
CLASS:PUBLIC
DESCRIPTION:https://calendify.com/session/yLz4EzGeOao
DTSTAMP:20260422T170126Z
CREATED:20230527T091822Z
LAST-MODIFIED:20230611T215002Z
END:VEVENT
END:VCALENDAR