BEGIN:VCALENDAR
VERSION:2.0
PRODID:calendify.com
BEGIN:VEVENT
UID:calendify-session-yLz4EzobOao
DTSTART:20221229T150000Z
SEQUENCE:0
TRANSP:OPAQUE
DTEND:20221229T154500Z
URL:https://calendify.com/session/yLz4EzobOao
LOCATION:HIP - Track 1 - Room 5
SUMMARY:From idea to KiCad & beyond: How to design & build an LED project
CLASS:PUBLIC
DESCRIPTION:https://calendify.com/session/yLz4EzobOao
DTSTAMP:20260423T114356Z
CREATED:20221218T163040Z
LAST-MODIFIED:20221230T225002Z
END:VEVENT
END:VCALENDAR