BEGIN:VCALENDAR
VERSION:2.0
PRODID:calendify.com
BEGIN:VEVENT
UID:calendify-session-yomMJ0284Db
DTSTART:20200202T133000Z
SEQUENCE:0
TRANSP:OPAQUE
DTEND:20200202T135500Z
URL:https://calendify.com/session/yomMJ0284Db
LOCATION:UB5.132
SUMMARY:Selecting a Finite Element Analysis Backend for Exascale Fusion Rea
 ctor Simulations
CLASS:PUBLIC
DESCRIPTION:https://calendify.com/session/yomMJ0284Db
DTSTAMP:20260423T214215Z
CREATED:20200513T234735Z
LAST-MODIFIED:20210426T093310Z
END:VEVENT
END:VCALENDAR