BEGIN:VCALENDAR
VERSION:2.0
PRODID:calendify.com
BEGIN:VEVENT
UID:calendify-session-yomMJ0Dl4Db
DTSTART:20200201T110000Z
SEQUENCE:0
TRANSP:OPAQUE
DTEND:20200201T111500Z
URL:https://calendify.com/session/yomMJ0Dl4Db
LOCATION:H.2215 (Ferrer)
SUMMARY:Civil society needs Free Software hackers
CLASS:PUBLIC
DESCRIPTION:https://calendify.com/session/yomMJ0Dl4Db
DTSTAMP:20260422T125752Z
CREATED:20200513T234730Z
LAST-MODIFIED:20210426T093308Z
END:VEVENT
END:VCALENDAR