BEGIN:VCALENDAR
VERSION:2.0
PRODID:calendify.com
BEGIN:VEVENT
UID:calendify-session-yomMJ0LL4Db
DTSTART:20190601T101500Z
SEQUENCE:0
TRANSP:OPAQUE
DTEND:20190601T111500Z
URL:https://calendify.com/session/yomMJ0LL4Db
LOCATION:ZKM_OpenHUB
SUMMARY:Glasfasernetze & Beton wie auch immer das zusammen passt
CLASS:PUBLIC
DESCRIPTION:https://calendify.com/session/yomMJ0LL4Db
DTSTAMP:20260422T021923Z
CREATED:20200509T115118Z
LAST-MODIFIED:20200509T115118Z
END:VEVENT
END:VCALENDAR