BEGIN:VCALENDAR
VERSION:2.0
PRODID:calendify.com
BEGIN:VEVENT
UID:calendify-session-yomMJ0R04Db
DTSTART:20180510T153000Z
SEQUENCE:0
TRANSP:OPAQUE
DTEND:20180510T160000Z
URL:https://calendify.com/session/yomMJ0R04Db
LOCATION:HfG_Workshoproom
SUMMARY:GameJam Einführung
CLASS:PUBLIC
DESCRIPTION:https://calendify.com/session/yomMJ0R04Db
DTSTAMP:20260422T140352Z
CREATED:20200513T011827Z
LAST-MODIFIED:20200513T011827Z
END:VEVENT
END:VCALENDAR