BEGIN:VCALENDAR
VERSION:2.0
PRODID:calendify.com
BEGIN:VEVENT
UID:calendify-session-yomMJ0Zl4Db
DTSTART:20180512T113000Z
SEQUENCE:0
TRANSP:OPAQUE
DTEND:20180512T143000Z
URL:https://calendify.com/session/yomMJ0Zl4Db
LOCATION:HfG_Workshoproom
SUMMARY:Laserlabyrinth
CLASS:PUBLIC
DESCRIPTION:https://calendify.com/session/yomMJ0Zl4Db
DTSTAMP:20260422T014657Z
CREATED:20200513T011828Z
LAST-MODIFIED:20200513T011828Z
END:VEVENT
END:VCALENDAR