BEGIN:VCALENDAR
VERSION:2.0
PRODID:calendify.com
BEGIN:VEVENT
UID:calendify-session-yomMJ0qe4Db
DTSTART:20200202T080000Z
SEQUENCE:0
TRANSP:OPAQUE
DTEND:20200202T082500Z
URL:https://calendify.com/session/yomMJ0qe4Db
LOCATION:K.3.401
SUMMARY:Discover dependency license information with ClearlyDefined
CLASS:PUBLIC
DESCRIPTION:https://calendify.com/session/yomMJ0qe4Db
DTSTAMP:20260423T162053Z
CREATED:20200513T234735Z
LAST-MODIFIED:20210426T093310Z
END:VEVENT
END:VCALENDAR