BEGIN:VCALENDAR
VERSION:2.0
PRODID:calendify.com
BEGIN:VEVENT
UID:calendify-session-yomMJ60LMDb
DTSTART:20210311T181500Z
SEQUENCE:0
TRANSP:OPAQUE
DTEND:20210311T193000Z
URL:https://calendify.com/session/yomMJ60LMDb
LOCATION:Zoom Room 8B
SUMMARY:PreparationTech: AI Futures (for High School Students)
CLASS:PUBLIC
DESCRIPTION:https://calendify.com/session/yomMJ60LMDb
DTSTAMP:20260423T182345Z
CREATED:20210426T094928Z
LAST-MODIFIED:20210426T094928Z
END:VEVENT
END:VCALENDAR