BEGIN:VCALENDAR
VERSION:2.0
PRODID:calendify.com
BEGIN:VEVENT
UID:calendify-session-yomMJ65lMDb
DTSTART:20210522T155000Z
SEQUENCE:0
TRANSP:OPAQUE
DTEND:20210522T155500Z
URL:https://calendify.com/session/yomMJ65lMDb
LOCATION:Kanal 1
SUMMARY:It's a wrap re:publica 2021 Tag 3
CLASS:PUBLIC
DESCRIPTION:https://calendify.com/session/yomMJ65lMDb
DTSTAMP:20260423T003902Z
CREATED:20210515T090102Z
LAST-MODIFIED:20210524T215002Z
END:VEVENT
END:VCALENDAR