BEGIN:VCALENDAR
VERSION:2.0
PRODID:calendify.com
BEGIN:VEVENT
UID:calendify-session-yomMJ6jLMDb
DTSTART:20210314T174500Z
SEQUENCE:0
TRANSP:OPAQUE
DTEND:20210314T184500Z
URL:https://calendify.com/session/yomMJ6jLMDb
LOCATION:Zoom Room 2A
SUMMARY:Science Materiality Series Workshop\, from jargon to emotive engage
 ment.
CLASS:PUBLIC
DESCRIPTION:https://calendify.com/session/yomMJ6jLMDb
DTSTAMP:20260420T203125Z
CREATED:20210426T094928Z
LAST-MODIFIED:20210426T094928Z
END:VEVENT
END:VCALENDAR