BEGIN:VCALENDAR
VERSION:2.0
PRODID:calendify.com
BEGIN:VEVENT
UID:calendify-session-yomMJ6keMDb
DTSTART:20210310T170000Z
SEQUENCE:0
TRANSP:OPAQUE
DTEND:20210310T180000Z
URL:https://calendify.com/session/yomMJ6keMDb
LOCATION:Zoom Room 3A
SUMMARY:Out of My Face!: Using Public Records to Understand Government's Fa
 cial Recognition Use
CLASS:PUBLIC
DESCRIPTION:https://calendify.com/session/yomMJ6keMDb
DTSTAMP:20260420T124651Z
CREATED:20210426T094927Z
LAST-MODIFIED:20210426T094927Z
END:VEVENT
END:VCALENDAR