BEGIN:VCALENDAR
VERSION:2.0
PRODID:calendify.com
BEGIN:VEVENT
UID:calendify-session-yomMJ6q0MDb
DTSTART:20220205T153000Z
SEQUENCE:0
TRANSP:OPAQUE
DTEND:20220205T160000Z
URL:https://calendify.com/session/yomMJ6q0MDb
LOCATION:D.retro
SUMMARY:FrogFind and 68k News
CLASS:PUBLIC
DESCRIPTION:https://calendify.com/session/yomMJ6q0MDb
DTSTAMP:20260420T080738Z
CREATED:20220120T214604Z
LAST-MODIFIED:20220206T225003Z
END:VEVENT
END:VCALENDAR