BEGIN:VCALENDAR
VERSION:2.0
PRODID:calendify.com
BEGIN:VEVENT
UID:calendify-session-yomMJ6wlMDb
DTSTART:20210522T103500Z
SEQUENCE:0
TRANSP:OPAQUE
DTEND:20210522T110000Z
URL:https://calendify.com/session/yomMJ6wlMDb
LOCATION:Kanal 1
SUMMARY:Afropean Identity
CLASS:PUBLIC
DESCRIPTION:https://calendify.com/session/yomMJ6wlMDb
DTSTAMP:20260423T003907Z
CREATED:20210511T170422Z
LAST-MODIFIED:20210524T215002Z
END:VEVENT
END:VCALENDAR