BEGIN:VCALENDAR
VERSION:2.0
PRODID:calendify.com
BEGIN:VEVENT
UID:calendify-session-yomMJ70EgDb
DTSTART:20221228T110000Z
SEQUENCE:0
TRANSP:OPAQUE
DTEND:20221228T111700Z
URL:https://calendify.com/session/yomMJ70EgDb
LOCATION:HDMI (room 3)
SUMMARY:Of someone who went forth to find a flat in Berlin. An automation-d
 rama in three acts — Act 3: In ultimate consequence
CLASS:PUBLIC
DESCRIPTION:https://calendify.com/session/yomMJ70EgDb
DTSTAMP:20260423T173309Z
CREATED:20221218T163041Z
LAST-MODIFIED:20221230T225002Z
END:VEVENT
END:VCALENDAR