BEGIN:VCALENDAR
VERSION:2.0
PRODID:calendify.com
BEGIN:VEVENT
UID:calendify-session-yomMJ77GgDb
DTSTART:20221226T110000Z
SEQUENCE:0
TRANSP:OPAQUE
DTEND:20221226T140000Z
URL:https://calendify.com/session/yomMJ77GgDb
LOCATION:Workshopraum 1 - H2-2.5
SUMMARY:SIE IST KEIN GENRE WORKSHOP\, VORTRAG UND SONGWRITINGSESSION FÜR F
 LINTA MUSIKER*INNEN
CLASS:PUBLIC
DESCRIPTION:https://calendify.com/session/yomMJ77GgDb
DTSTAMP:20260422T014658Z
CREATED:20221222T170031Z
LAST-MODIFIED:20221230T225007Z
END:VEVENT
END:VCALENDAR