BEGIN:VCALENDAR
VERSION:2.0
PRODID:calendify.com
BEGIN:VEVENT
UID:calendify-session-yomMJ7DqgDb
DTSTART:20230609T080000Z
SEQUENCE:0
TRANSP:OPAQUE
DTEND:20230609T090000Z
URL:https://calendify.com/session/yomMJ7DqgDb
LOCATION:Medientheater
SUMMARY:IoT Cybersecurity - EU Normenupdate
CLASS:PUBLIC
DESCRIPTION:https://calendify.com/session/yomMJ7DqgDb
DTSTAMP:20260424T024429Z
CREATED:20230527T091820Z
LAST-MODIFIED:20230611T215002Z
END:VEVENT
END:VCALENDAR