BEGIN:VCALENDAR
VERSION:2.0
PRODID:calendify.com
BEGIN:VEVENT
UID:calendify-session-yomMJ7EegDb
DTSTART:20230606T093000Z
SEQUENCE:0
TRANSP:OPAQUE
DTEND:20230606T094500Z
URL:https://calendify.com/session/yomMJ7EegDb
LOCATION:Stage 3
SUMMARY:Beyond Platforms: ein Ökosystem als Alternative
CLASS:PUBLIC
DESCRIPTION:https://calendify.com/session/yomMJ7EegDb
DTSTAMP:20260423T161134Z
CREATED:20230604T163809Z
LAST-MODIFIED:20230606T124212Z
END:VEVENT
END:VCALENDAR