BEGIN:VCALENDAR
VERSION:2.0
PRODID:calendify.com
BEGIN:VEVENT
UID:calendify-session-yomMJ7J8gDb
DTSTART:20230409T180000Z
SEQUENCE:0
TRANSP:OPAQUE
DTEND:20230409T185000Z
URL:https://calendify.com/session/yomMJ7J8gDb
LOCATION:K2 Rahel Liebeschütz-Plaut
SUMMARY:IDs – Warum Integer eine schlechte Idee sind
CLASS:PUBLIC
DESCRIPTION:https://calendify.com/session/yomMJ7J8gDb
DTSTAMP:20260423T184047Z
CREATED:20230309T185708Z
LAST-MODIFIED:20230409T215003Z
END:VEVENT
END:VCALENDAR