BEGIN:VCALENDAR
VERSION:2.0
PRODID:calendify.com
BEGIN:VEVENT
UID:calendify-session-yomMJ7a8gDb
DTSTART:20230408T200000Z
SEQUENCE:0
TRANSP:OPAQUE
DTEND:20230408T213900Z
URL:https://calendify.com/session/yomMJ7a8gDb
LOCATION:Alabama
SUMMARY:23 – Nichts ist so wie es scheint
CLASS:PUBLIC
DESCRIPTION:https://calendify.com/session/yomMJ7a8gDb
DTSTAMP:20260425T123415Z
CREATED:20230405T103524Z
LAST-MODIFIED:20230409T215003Z
END:VEVENT
END:VCALENDAR