BEGIN:VCALENDAR
VERSION:2.0
PRODID:calendify.com
BEGIN:VEVENT
UID:calendify-session-yomMJ7r0gDb
DTSTART:20220723T160000Z
SEQUENCE:0
TRANSP:OPAQUE
DTEND:20220723T173000Z
URL:https://calendify.com/session/yomMJ7r0gDb
LOCATION:DNA 🧬
SUMMARY:How do we design trauma-informed financial systems?
CLASS:PUBLIC
DESCRIPTION:https://calendify.com/session/yomMJ7r0gDb
DTSTAMP:20260424T024500Z
CREATED:20220723T101231Z
LAST-MODIFIED:20220726T182703Z
END:VEVENT
END:VCALENDAR