BEGIN:VCALENDAR
VERSION:2.0
PRODID:calendify.com
BEGIN:VEVENT
UID:calendify-session-yomMJ7wegDb
DTSTART:20221228T190000Z
SEQUENCE:0
TRANSP:OPAQUE
DTEND:20221228T210000Z
URL:https://calendify.com/session/yomMJ7wegDb
LOCATION:Rave Cave
SUMMARY:Malle 4 Alle
CLASS:PUBLIC
DESCRIPTION:https://calendify.com/session/yomMJ7wegDb
DTSTAMP:20260420T140141Z
CREATED:20221228T164006Z
LAST-MODIFIED:20221230T225006Z
END:VEVENT
END:VCALENDAR