BEGIN:VCALENDAR
VERSION:2.0
PRODID:calendify.com
BEGIN:VEVENT
UID:calendify-session-yomMJB80MDb
DTSTART:20201227T120000Z
SEQUENCE:0
TRANSP:OPAQUE
DTEND:20201227T124000Z
URL:https://calendify.com/session/yomMJB80MDb
LOCATION:ChaosZone TV Stream
SUMMARY:ChaosZone Opening
CLASS:PUBLIC
DESCRIPTION:https://calendify.com/session/yomMJB80MDb
DTSTAMP:20260422T173330Z
CREATED:20201221T231541Z
LAST-MODIFIED:20211226T143337Z
END:VEVENT
END:VCALENDAR