BEGIN:VCALENDAR
VERSION:2.0
PRODID:calendify.com
BEGIN:VEVENT
UID:calendify-session-yomMJBA0MDb
DTSTART:20190921T123000Z
SEQUENCE:0
TRANSP:OPAQUE
DTEND:20190921T131500Z
URL:https://calendify.com/session/yomMJBA0MDb
LOCATION:Kleiner Saal
SUMMARY:Warum rechte Politik die KI-Entwicklung in die Irre führt
CLASS:PUBLIC
DESCRIPTION:https://calendify.com/session/yomMJBA0MDb
DTSTAMP:20260421T135657Z
CREATED:20200610T174346Z
LAST-MODIFIED:20200610T174346Z
END:VEVENT
END:VCALENDAR