BEGIN:VCALENDAR
VERSION:2.0
PRODID:calendify.com
BEGIN:VEVENT
UID:calendify-session-yomMJBNEMDb
DTSTART:20201230T141500Z
SEQUENCE:0
TRANSP:OPAQUE
DTEND:20201230T161500Z
URL:https://calendify.com/session/yomMJBNEMDb
LOCATION:KreaturWorks
SUMMARY:Workshop: Imaginaries for 2070
CLASS:PUBLIC
DESCRIPTION:https://calendify.com/session/yomMJBNEMDb
DTSTAMP:20260422T215750Z
CREATED:20201226T224013Z
LAST-MODIFIED:20210114T154804Z
END:VEVENT
END:VCALENDAR