BEGIN:VCALENDAR
VERSION:2.0
PRODID:calendify.com
BEGIN:VEVENT
UID:calendify-session-yomMJBrqMDb
DTSTART:20180331T100000Z
SEQUENCE:0
TRANSP:OPAQUE
DTEND:20180331T103000Z
URL:https://calendify.com/session/yomMJBrqMDb
LOCATION:Max Planck
SUMMARY:Lockpicking für Kinder (und Anfänger)
CLASS:PUBLIC
DESCRIPTION:https://calendify.com/session/yomMJBrqMDb
DTSTAMP:20260422T194555Z
CREATED:20200520T231946Z
LAST-MODIFIED:20200520T231946Z
END:VEVENT
END:VCALENDAR