BEGIN:VCALENDAR
VERSION:2.0
PRODID:calendify.com
BEGIN:VEVENT
UID:calendify-session-yomMJG3GgDb
DTSTART:20220608T111500Z
SEQUENCE:0
TRANSP:OPAQUE
DTEND:20220608T114500Z
URL:https://calendify.com/session/yomMJG3GgDb
LOCATION:Stage 3
SUMMARY:Wie denken und agieren Cyberkriminelle – und wieso finden sie imm
 er eine Lücke?  Fragen wir sie doch!
CLASS:PUBLIC
DESCRIPTION:https://calendify.com/session/yomMJG3GgDb
DTSTAMP:20260423T150206Z
CREATED:20220526T162945Z
LAST-MODIFIED:20220613T235204Z
END:VEVENT
END:VCALENDAR