BEGIN:VCALENDAR
VERSION:2.0
PRODID:calendify.com
BEGIN:VEVENT
UID:calendify-session-yomMJG7egDb
DTSTART:20161227T103000Z
SEQUENCE:0
TRANSP:OPAQUE
DTEND:20161227T113000Z
URL:https://calendify.com/session/yomMJG7egDb
LOCATION:Saal G
SUMMARY:What could possibly go wrong with <insert x86 instruction here>?
CLASS:PUBLIC
DESCRIPTION:https://calendify.com/session/yomMJG7egDb
DTSTAMP:20260422T111544Z
CREATED:20220415T135302Z
LAST-MODIFIED:20220415T135302Z
END:VEVENT
END:VCALENDAR