BEGIN:VCALENDAR
VERSION:2.0
PRODID:calendify.com
BEGIN:VEVENT
UID:calendify-session-yomMJGLLgDb
DTSTART:20151227T193000Z
SEQUENCE:0
TRANSP:OPAQUE
DTEND:20151227T203000Z
URL:https://calendify.com/session/yomMJGLLgDb
LOCATION:Hall 2
SUMMARY:Running your own 3G/3.5G network
CLASS:PUBLIC
DESCRIPTION:https://calendify.com/session/yomMJGLLgDb
DTSTAMP:20260421T044141Z
CREATED:20220415T142917Z
LAST-MODIFIED:20220415T142917Z
END:VEVENT
END:VCALENDAR