BEGIN:VCALENDAR
VERSION:2.0
PRODID:calendify.com
BEGIN:VEVENT
UID:calendify-session-yomMJGQegDb
DTSTART:20161228T103000Z
SEQUENCE:0
TRANSP:OPAQUE
DTEND:20161228T113000Z
URL:https://calendify.com/session/yomMJGQegDb
LOCATION:Saal G
SUMMARY:A look into the Mobile Messaging Black Box
CLASS:PUBLIC
DESCRIPTION:https://calendify.com/session/yomMJGQegDb
DTSTAMP:20260420T111621Z
CREATED:20220415T135303Z
LAST-MODIFIED:20220415T135303Z
END:VEVENT
END:VCALENDAR