BEGIN:VCALENDAR
VERSION:2.0
PRODID:calendify.com
BEGIN:VEVENT
UID:calendify-session-yomMJGmLgDb
DTSTART:20161229T161500Z
SEQUENCE:0
TRANSP:OPAQUE
DTEND:20161229T171500Z
URL:https://calendify.com/session/yomMJGmLgDb
LOCATION:Saal 6
SUMMARY:Talking Behind Your Back
CLASS:PUBLIC
DESCRIPTION:https://calendify.com/session/yomMJGmLgDb
DTSTAMP:20260422T094721Z
CREATED:20220415T135303Z
LAST-MODIFIED:20220415T135303Z
END:VEVENT
END:VCALENDAR