BEGIN:VCALENDAR
VERSION:2.0
PRODID:calendify.com
BEGIN:VEVENT
UID:calendify-session-yomMJGoLgDb
DTSTART:20220609T090000Z
SEQUENCE:0
TRANSP:OPAQUE
DTEND:20220609T093000Z
URL:https://calendify.com/session/yomMJGoLgDb
LOCATION:Home Base
SUMMARY:Mentor*innen Meetup 2
CLASS:PUBLIC
DESCRIPTION:https://calendify.com/session/yomMJGoLgDb
DTSTAMP:20260423T133515Z
CREATED:20220605T230942Z
LAST-MODIFIED:20220613T235204Z
END:VEVENT
END:VCALENDAR