BEGIN:VCALENDAR
VERSION:2.0
PRODID:calendify.com
BEGIN:VEVENT
UID:calendify-session-yomMJGp0gDb
DTSTART:20220521T184500Z
SEQUENCE:0
TRANSP:OPAQUE
DTEND:20220521T204500Z
URL:https://calendify.com/session/yomMJGp0gDb
LOCATION:Raum 112
SUMMARY:Einen Matrix Server ankurbeln
CLASS:PUBLIC
DESCRIPTION:https://calendify.com/session/yomMJGp0gDb
DTSTAMP:20260420T095527Z
CREATED:20220502T005753Z
LAST-MODIFIED:20220521T215002Z
END:VEVENT
END:VCALENDAR