BEGIN:VCALENDAR
VERSION:2.0
PRODID:calendify.com
BEGIN:VEVENT
UID:calendify-session-yomMJGvEgDb
DTSTART:20220609T114500Z
SEQUENCE:0
TRANSP:OPAQUE
DTEND:20220609T124500Z
URL:https://calendify.com/session/yomMJGvEgDb
LOCATION:Stage 6
SUMMARY:Sorry for the late reply – Feminist lessons from the digital fron
 tier
CLASS:PUBLIC
DESCRIPTION:https://calendify.com/session/yomMJGvEgDb
DTSTAMP:20260423T162309Z
CREATED:20220526T162945Z
LAST-MODIFIED:20220613T235204Z
END:VEVENT
END:VCALENDAR