BEGIN:VCALENDAR
VERSION:2.0
PRODID:calendify.com
BEGIN:VEVENT
UID:calendify-session-yomMJQ3qODb
DTSTART:20231228T130000Z
SEQUENCE:0
TRANSP:OPAQUE
DTEND:20231228T160000Z
URL:https://calendify.com/session/yomMJQ3qODb
LOCATION:Chillout Lounge
SUMMARY:F.Lutze
CLASS:PUBLIC
DESCRIPTION:https://calendify.com/session/yomMJQ3qODb
DTSTAMP:20260422T132653Z
CREATED:20231227T015003Z
LAST-MODIFIED:20240401T142932Z
END:VEVENT
END:VCALENDAR