BEGIN:VCALENDAR
VERSION:2.0
PRODID:calendify.com
BEGIN:VEVENT
UID:calendify-session-yomMJQ5aODb
DTSTART:20231228T110000Z
SEQUENCE:0
TRANSP:OPAQUE
DTEND:20231228T114000Z
URL:https://calendify.com/session/yomMJQ5aODb
LOCATION:Saal 1
SUMMARY:Why Railway Is Safe But Not Secure
CLASS:PUBLIC
DESCRIPTION:https://calendify.com/session/yomMJQ5aODb
DTSTAMP:20260423T015619Z
CREATED:20231215T204819Z
LAST-MODIFIED:20240401T142932Z
END:VEVENT
END:VCALENDAR